BEGIN:VCALENDAR
VERSION:2.0
PRODID:-//San Francisco Design Center - ECPv6.15.20//NONSGML v1.0//EN
CALSCALE:GREGORIAN
METHOD:PUBLISH
X-WR-CALNAME:San Francisco Design Center
X-ORIGINAL-URL:https://sfdesigncenter.com
X-WR-CALDESC:Events for San Francisco Design Center
REFRESH-INTERVAL;VALUE=DURATION:PT1H
X-Robots-Tag:noindex
X-PUBLISHED-TTL:PT1H
BEGIN:VTIMEZONE
TZID:America/Los_Angeles
BEGIN:DAYLIGHT
TZOFFSETFROM:-0800
TZOFFSETTO:-0700
TZNAME:PDT
DTSTART:20240310T100000
END:DAYLIGHT
BEGIN:STANDARD
TZOFFSETFROM:-0700
TZOFFSETTO:-0800
TZNAME:PST
DTSTART:20241103T090000
END:STANDARD
BEGIN:DAYLIGHT
TZOFFSETFROM:-0800
TZOFFSETTO:-0700
TZNAME:PDT
DTSTART:20250309T100000
END:DAYLIGHT
BEGIN:STANDARD
TZOFFSETFROM:-0700
TZOFFSETTO:-0800
TZNAME:PST
DTSTART:20251102T090000
END:STANDARD
BEGIN:DAYLIGHT
TZOFFSETFROM:-0800
TZOFFSETTO:-0700
TZNAME:PDT
DTSTART:20260308T100000
END:DAYLIGHT
BEGIN:STANDARD
TZOFFSETFROM:-0700
TZOFFSETTO:-0800
TZNAME:PST
DTSTART:20261101T090000
END:STANDARD
END:VTIMEZONE
BEGIN:VEVENT
DTSTART;TZID=America/Los_Angeles:20250312T100000
DTEND;TZID=America/Los_Angeles:20250312T160000
DTSTAMP:20260419T060340
CREATED:20250217T185335Z
LAST-MODIFIED:20250409T212432Z
UID:10000605-1741773600-1741795200@sfdesigncenter.com
SUMMARY:Una Malan - An Ode to Outdoor Living
DESCRIPTION:Join us for an exclusive open house event celebrating Una Malan’s and Tom Muyters’ Outdoor Furniture Collections\, along with high-performance textiles\, all with a special spotlight on outdoor luxury living. Discover pieces that seamlessly blend sophistication and functionality\, designed to help you create the ultimate outdoor sanctuary.
URL:https://sfdesigncenter.com/event/an-ode-to-outdoor-living/
LOCATION:Una Malan\, Galleria 330\, 101 Henry Adams Street\, San Francisco\, CA\, 94103\, United States
CATEGORIES:Past Events
ATTACH;FMTTYPE=image/png:https://sfdesigncenter.com/wp-content/uploads/2025/02/Picnic-Hero.png
END:VEVENT
END:VCALENDAR