BEGIN:VCALENDAR
VERSION:2.0
PRODID:-//San Francisco Design Center - ECPv6.15.20//NONSGML v1.0//EN
CALSCALE:GREGORIAN
METHOD:PUBLISH
X-WR-CALNAME:San Francisco Design Center
X-ORIGINAL-URL:https://sfdesigncenter.com
X-WR-CALDESC:Events for San Francisco Design Center
REFRESH-INTERVAL;VALUE=DURATION:PT1H
X-Robots-Tag:noindex
X-PUBLISHED-TTL:PT1H
BEGIN:VTIMEZONE
TZID:America/Los_Angeles
BEGIN:DAYLIGHT
TZOFFSETFROM:-0800
TZOFFSETTO:-0700
TZNAME:PDT
DTSTART:20230312T100000
END:DAYLIGHT
BEGIN:STANDARD
TZOFFSETFROM:-0700
TZOFFSETTO:-0800
TZNAME:PST
DTSTART:20231105T090000
END:STANDARD
BEGIN:DAYLIGHT
TZOFFSETFROM:-0800
TZOFFSETTO:-0700
TZNAME:PDT
DTSTART:20240310T100000
END:DAYLIGHT
BEGIN:STANDARD
TZOFFSETFROM:-0700
TZOFFSETTO:-0800
TZNAME:PST
DTSTART:20241103T090000
END:STANDARD
BEGIN:DAYLIGHT
TZOFFSETFROM:-0800
TZOFFSETTO:-0700
TZNAME:PDT
DTSTART:20250309T100000
END:DAYLIGHT
BEGIN:STANDARD
TZOFFSETFROM:-0700
TZOFFSETTO:-0800
TZNAME:PST
DTSTART:20251102T090000
END:STANDARD
END:VTIMEZONE
BEGIN:VEVENT
DTSTART;TZID=America/Los_Angeles:20240516T190000
DTEND;TZID=America/Los_Angeles:20240516T210000
DTSTAMP:20260423T041924
CREATED:20240417T192756Z
LAST-MODIFIED:20240418T212056Z
UID:10000568-1715886000-1715893200@sfdesigncenter.com
SUMMARY:Revitaliste & Schumacher -- Design With Impact
DESCRIPTION:Please join Revitaliste and Schumacher for cocktails and a silent auction of nine artfully revitalized chairs to benefit Make It Home\, a non-profit organization that is alleviating furniture poverty in the Bay Area. \nParticipating Designers: \nDara Caponigro – Creative Director\, Schumacher & Editor in Chief\, Frederic Magazine\nMarea Clark – Founder & Principal Designer at Marea Clark Interiors\nKelly Finley – CEO and Creative Director at Joy Street Design\nWilla Ford – Founder and Principal Designer at WFord Interiors\nVeere Greeney – AD-100 Hall of Fame & Principal at Veere Greeney Associates\nMichael Hilal – Founder and Principal Designer at Michael Hilal\nAnu Jain – Founder and Principal Designer at Atelier Oleana\nClara Jung – Founder and Principal Designer at Banner Day Interiors\nKendall Wilkinson – CEO and Founder at Kendall Wilkinson Design \nThursday\, May 16 | 6 – 8 PM\n6:30 PM – Bidding Opens \nStephanie Breitbard Fine Arts Gallery\n505 Jackson Street\nSan Francisco \n$60 per ticket
URL:https://sfdesigncenter.com/event/design-with-impact/
LOCATION:Stephanie Breitbard Fine Arts Gallery\, 505 Jackson Street\, San Franicsco\, 94111
CATEGORIES:All
ATTACH;FMTTYPE=image/jpeg:https://sfdesigncenter.com/wp-content/uploads/2022/12/0516_RevitalistEvent_Invite_V3_R489UPDATED-scaled.jpg
END:VEVENT
END:VCALENDAR