BEGIN:VCALENDAR
VERSION:2.0
PRODID:-//San Francisco Design Center - ECPv6.15.20//NONSGML v1.0//EN
CALSCALE:GREGORIAN
METHOD:PUBLISH
X-ORIGINAL-URL:https://sfdesigncenter.com
X-WR-CALDESC:Events for San Francisco Design Center
REFRESH-INTERVAL;VALUE=DURATION:PT1H
X-Robots-Tag:noindex
X-PUBLISHED-TTL:PT1H
BEGIN:VTIMEZONE
TZID:America/Los_Angeles
BEGIN:DAYLIGHT
TZOFFSETFROM:-0800
TZOFFSETTO:-0700
TZNAME:PDT
DTSTART:20240310T100000
END:DAYLIGHT
BEGIN:STANDARD
TZOFFSETFROM:-0700
TZOFFSETTO:-0800
TZNAME:PST
DTSTART:20241103T090000
END:STANDARD
BEGIN:DAYLIGHT
TZOFFSETFROM:-0800
TZOFFSETTO:-0700
TZNAME:PDT
DTSTART:20250309T100000
END:DAYLIGHT
BEGIN:STANDARD
TZOFFSETFROM:-0700
TZOFFSETTO:-0800
TZNAME:PST
DTSTART:20251102T090000
END:STANDARD
BEGIN:DAYLIGHT
TZOFFSETFROM:-0800
TZOFFSETTO:-0700
TZNAME:PDT
DTSTART:20260308T100000
END:DAYLIGHT
BEGIN:STANDARD
TZOFFSETFROM:-0700
TZOFFSETTO:-0800
TZNAME:PST
DTSTART:20261101T090000
END:STANDARD
BEGIN:DAYLIGHT
TZOFFSETFROM:-0800
TZOFFSETTO:-0700
TZNAME:PDT
DTSTART:20270314T100000
END:DAYLIGHT
BEGIN:STANDARD
TZOFFSETFROM:-0700
TZOFFSETTO:-0800
TZNAME:PST
DTSTART:20271107T090000
END:STANDARD
END:VTIMEZONE
BEGIN:VEVENT
DTSTART;TZID=America/Los_Angeles:20260311T150000
DTEND;TZID=America/Los_Angeles:20260311T160000
DTSTAMP:20260419T072032
CREATED:20260203T192730Z
LAST-MODIFIED:20260205T000438Z
UID:10001075-1773241200-1773244800@sfdesigncenter.com
SUMMARY:A Market Masterclass with Gregorius Pineo & Bozena
DESCRIPTION:Join us for a highly personal & inspiring session with Bozena featuring interactive demonstrations you won’t soon forget! \nRSVP to sbajuniemi@kneedlerfauchere.com
URL:https://sfdesigncenter.com/event/event-at-kneedler-fauchere/
LOCATION:Kneedler Fauchere\, Galleria 170\, 101 Henry Adams Street\, San Francisco\, 94103\, United States
CATEGORIES:Design San Francisco - Spring 2026,March 11
ATTACH;FMTTYPE=image/jpeg:https://sfdesigncenter.com/wp-content/uploads/2026/02/Design-SF-Spring-2026-HERO.jpg
END:VEVENT
BEGIN:VEVENT
DTSTART;TZID=America/Los_Angeles:20250917T100000
DTEND;TZID=America/Los_Angeles:20250917T150000
DTSTAMP:20260419T072032
CREATED:20250730T000028Z
LAST-MODIFIED:20250731T181031Z
UID:10000671-1758103200-1758121200@sfdesigncenter.com
SUMMARY:Go Bespoke with Kneedler Fauchere
DESCRIPTION:
URL:https://sfdesigncenter.com/event/le-manach-with-joe/
LOCATION:Kneedler Fauchere\, Galleria 170\, 101 Henry Adams Street\, San Francisco\, 94103\, United States
CATEGORIES:Design San Francisco - Fall 2025,September 17
ATTACH;FMTTYPE=image/jpeg:https://sfdesigncenter.com/wp-content/uploads/2025/07/Go-Bespoke-with-KFSF-HERO-1080x1080-v1.1.jpg
END:VEVENT
BEGIN:VEVENT
DTSTART;TZID=America/Los_Angeles:20250313T160000
DTEND;TZID=America/Los_Angeles:20250313T180000
DTSTAMP:20260419T072032
CREATED:20250219T180408Z
LAST-MODIFIED:20250409T211804Z
UID:10000625-1741881600-1741888800@sfdesigncenter.com
SUMMARY:Kneedler Fauchere - Introducing Sean Leffers
DESCRIPTION:Join Sean Leffers for an exclusive introduction to his fabric line followed by a reception featuring cocktails and light bites.
URL:https://sfdesigncenter.com/event/kneedler-fauchere-introducing-sean-leffers/
LOCATION:Kneedler Fauchere\, Galleria 170\, 101 Henry Adams Street\, San Francisco\, 94103\, United States
CATEGORIES:Past Events
ATTACH;FMTTYPE=image/jpeg:https://sfdesigncenter.com/wp-content/uploads/2025/02/SF-Market-SEAN-LEFFERS-WEB-v1.1.jpg
END:VEVENT
BEGIN:VEVENT
DTSTART;TZID=America/Los_Angeles:20250311T160000
DTEND;TZID=America/Los_Angeles:20250311T180000
DTSTAMP:20260419T072032
CREATED:20250219T175915Z
LAST-MODIFIED:20250409T212735Z
UID:10000624-1741708800-1741716000@sfdesigncenter.com
SUMMARY:Kneedler Fauchere - Stefan Gulassa of Holly Hunt Presentation/Reception
DESCRIPTION:Join Stefan Gulassa of Holly Hunt for a special presentation followed by a reception featuring cocktails and light bites.
URL:https://sfdesigncenter.com/event/kneedler-fauchere-stefan-gulassa-of-holly-hunt-presentation-reception/
LOCATION:Kneedler Fauchere\, Galleria 170\, 101 Henry Adams Street\, San Francisco\, 94103\, United States
CATEGORIES:Past Events
ATTACH;FMTTYPE=image/jpeg:https://sfdesigncenter.com/wp-content/uploads/2025/02/SF-Market-HOLLY-HUNT-WEB-v1.1.jpg
END:VEVENT
END:VCALENDAR