BEGIN:VCALENDAR
VERSION:2.0
PRODID:-//San Francisco Design Center - ECPv6.15.20//NONSGML v1.0//EN
CALSCALE:GREGORIAN
METHOD:PUBLISH
X-WR-CALNAME:San Francisco Design Center
X-ORIGINAL-URL:https://sfdesigncenter.com
X-WR-CALDESC:Events for San Francisco Design Center
REFRESH-INTERVAL;VALUE=DURATION:PT1H
X-Robots-Tag:noindex
X-PUBLISHED-TTL:PT1H
BEGIN:VTIMEZONE
TZID:America/Los_Angeles
BEGIN:DAYLIGHT
TZOFFSETFROM:-0800
TZOFFSETTO:-0700
TZNAME:PDT
DTSTART:20210314T100000
END:DAYLIGHT
BEGIN:STANDARD
TZOFFSETFROM:-0700
TZOFFSETTO:-0800
TZNAME:PST
DTSTART:20211107T090000
END:STANDARD
BEGIN:DAYLIGHT
TZOFFSETFROM:-0800
TZOFFSETTO:-0700
TZNAME:PDT
DTSTART:20220313T100000
END:DAYLIGHT
BEGIN:STANDARD
TZOFFSETFROM:-0700
TZOFFSETTO:-0800
TZNAME:PST
DTSTART:20221106T090000
END:STANDARD
BEGIN:DAYLIGHT
TZOFFSETFROM:-0800
TZOFFSETTO:-0700
TZNAME:PDT
DTSTART:20230312T100000
END:DAYLIGHT
BEGIN:STANDARD
TZOFFSETFROM:-0700
TZOFFSETTO:-0800
TZNAME:PST
DTSTART:20231105T090000
END:STANDARD
END:VTIMEZONE
BEGIN:VEVENT
DTSTART;TZID=America/Los_Angeles:20221018T103000
DTEND;TZID=America/Los_Angeles:20221018T123000
DTSTAMP:20260419T091135
CREATED:20230117T155929Z
LAST-MODIFIED:20230117T233031Z
UID:10000020-1666089000-1666096200@sfdesigncenter.com
SUMMARY:De Sousa Hughes: Meet the Makers: Charles Paris
DESCRIPTION:Please join Nicolas Beaufour and Praxéda Beaufour from Charles Paris to explore their new lighting collection and to dive into the deep history and artistry of these hand-crafted jewels for the home.
URL:https://sfdesigncenter.com/event/de-sousa-hughes-meet-the-makers-charles-paris/
CATEGORIES:All,Past Events
ATTACH;FMTTYPE=image/jpeg:https://sfdesigncenter.com/wp-content/uploads/2023/01/SFDC-DSF-Fall-EmailHeader-1080x720-1.jpeg
END:VEVENT
BEGIN:VEVENT
DTSTART;TZID=America/Los_Angeles:20221018T100000
DTEND;TZID=America/Los_Angeles:20221020T180000
DTSTAMP:20260419T091135
CREATED:20230117T155652Z
LAST-MODIFIED:20230117T233103Z
UID:10000019-1666087200-1666288800@sfdesigncenter.com
SUMMARY:Perennials & Sutherland Studio: New Showroom Open House
DESCRIPTION:
URL:https://sfdesigncenter.com/event/perennials-sutherland-studio-new-showroom-open-house/
CATEGORIES:All,Past Events
ATTACH;FMTTYPE=image/jpeg:https://sfdesigncenter.com/wp-content/uploads/2023/01/SFDC-DSF-Fall-EmailHeader-1080x720-1.jpeg
END:VEVENT
BEGIN:VEVENT
DTSTART;TZID=America/Los_Angeles:20221018T100000
DTEND;TZID=America/Los_Angeles:20221020T180000
DTSTAMP:20260419T091135
CREATED:20230117T155454Z
LAST-MODIFIED:20230117T233136Z
UID:10000018-1666087200-1666288800@sfdesigncenter.com
SUMMARY:Brown Jordan: Open House
DESCRIPTION:Come enjoy a glass of wine while perusing new product offerings\, including three exciting new rope colors for our iconic and award-winning Walter Lamb collection and our recently launched quick ship program.
URL:https://sfdesigncenter.com/event/brown-jordan-open-house/
CATEGORIES:All,Past Events
ATTACH;FMTTYPE=image/jpeg:https://sfdesigncenter.com/wp-content/uploads/2023/01/SFDC-DSF-Fall-EmailHeader-1080x720-1.jpeg
END:VEVENT
BEGIN:VEVENT
DTSTART;TZID=America/Los_Angeles:20221018T100000
DTEND;TZID=America/Los_Angeles:20221020T180000
DTSTAMP:20260419T091135
CREATED:20230117T155140Z
LAST-MODIFIED:20230117T233223Z
UID:10000017-1666087200-1666288800@sfdesigncenter.com
SUMMARY:Cowtan & Tout: Open House to View Our Latest Collections
DESCRIPTION:Please join Cowtan & Tout for an open house to view the newly introduced Colefax And Fowler Fall 2022 Collection. This collection offers beautiful decorative designs\, exotic large scale patterns and durable plains that will add instant beauty to any interior. Also on view will be a preview of the Jane Churchill 2022 Collection. On view all throughout the day at Suite 170. Refreshments will be served!
URL:https://sfdesigncenter.com/event/cowtan-tout-open-house-to-view-our-latest-collections/
CATEGORIES:All,Past Events
ATTACH;FMTTYPE=image/jpeg:https://sfdesigncenter.com/wp-content/uploads/2023/01/SFDC-DSF-Fall-EmailHeader-1080x720-1.jpeg
END:VEVENT
BEGIN:VEVENT
DTSTART;TZID=America/Los_Angeles:20221018T100000
DTEND;TZID=America/Los_Angeles:20221020T180000
DTSTAMP:20260419T091135
CREATED:20230117T154918Z
LAST-MODIFIED:20230117T233258Z
UID:10000016-1666087200-1666288800@sfdesigncenter.com
SUMMARY:De Sousa Hughes: Open House
DESCRIPTION:Visit the De Sousa Hughes showroom to see the new fall collections from our textile and wallcovering manufacturers. In furniture\, lighting and rugs\, we are featuring new launches from Jonathan Browning\, Liaigre\, Rosemary Hallgarten and more.
URL:https://sfdesigncenter.com/event/de-sousa-hughes-open-house/
CATEGORIES:All,Past Events
ATTACH;FMTTYPE=image/jpeg:https://sfdesigncenter.com/wp-content/uploads/2023/01/SFDC-DSF-Fall-EmailHeader-1080x720-1.jpeg
END:VEVENT
BEGIN:VEVENT
DTSTART;TZID=America/Los_Angeles:20221018T100000
DTEND;TZID=America/Los_Angeles:20221020T180000
DTSTAMP:20260419T091135
CREATED:20230117T154101Z
LAST-MODIFIED:20230117T233459Z
UID:10000015-1666087200-1666288800@sfdesigncenter.com
SUMMARY:JANUS et Cie: Open House
DESCRIPTION:Visit the JANUS et Cie showroom during Design San Francisco | Fall to browse our latest outdoor furniture\, including the Poltrona Frau Boundless Living outdoor collections available exclusively through JANUS et Cie in the US and Mexico.
URL:https://sfdesigncenter.com/event/janus-et-cie-open-house/
CATEGORIES:All,Past Events
ATTACH;FMTTYPE=image/jpeg:https://sfdesigncenter.com/wp-content/uploads/2023/01/SFDC-DSF-Fall-EmailHeader-1080x720-1.jpeg
END:VEVENT
BEGIN:VEVENT
DTSTART;TZID=America/Los_Angeles:20221018T100000
DTEND;TZID=America/Los_Angeles:20221020T180000
DTSTAMP:20260419T091135
CREATED:20230117T153655Z
LAST-MODIFIED:20230117T233530Z
UID:10000014-1666087200-1666288800@sfdesigncenter.com
SUMMARY:Fabricut : Fabricut x Lemieux Et Cie Open House
DESCRIPTION:Fall into new fabrics\, trimmings and more from Fabricut and our family of brands! We’d love to see you and chat about your upcoming projects while we show you the latest to arrive in our showroom. Experience Fabricut’s new Lemieux Et Cie Material Archive collection and get a first-hand look at the textures and patterns in this uniquely beautiful collection.
URL:https://sfdesigncenter.com/event/fabricut-fabricut-x-lemieux-et-cie-open-house/
CATEGORIES:All,Past Events
ATTACH;FMTTYPE=image/jpeg:https://sfdesigncenter.com/wp-content/uploads/2023/01/SFDC-DSF-Fall-EmailHeader-1080x720-1.jpeg
END:VEVENT
BEGIN:VEVENT
DTSTART;TZID=America/Los_Angeles:20221018T100000
DTEND;TZID=America/Los_Angeles:20221020T180000
DTSTAMP:20260419T091135
CREATED:20230117T153458Z
LAST-MODIFIED:20230117T233605Z
UID:10000013-1666087200-1666288800@sfdesigncenter.com
SUMMARY:Sloan Miyasato: Open House
DESCRIPTION:Meet the makers behind your favorite manufacturers. Light refreshments provided. All day event at our SF showroom.
URL:https://sfdesigncenter.com/event/sloan-miyasato-open-house/
CATEGORIES:All,Past Events
ATTACH;FMTTYPE=image/jpeg:https://sfdesigncenter.com/wp-content/uploads/2023/01/SFDC-DSF-Fall-EmailHeader-1080x720-1.jpeg
END:VEVENT
BEGIN:VEVENT
DTSTART;TZID=America/Los_Angeles:20221018T100000
DTEND;TZID=America/Los_Angeles:20221018T180000
DTSTAMP:20260419T091135
CREATED:20230117T050529Z
LAST-MODIFIED:20230117T233638Z
UID:10000006-1666087200-1666116000@sfdesigncenter.com
SUMMARY:Design San Francisco - Day 1
DESCRIPTION:We planned many exciting events for Design San Francisco | Fall. Check out our events page for more information.
URL:https://sfdesigncenter.com/event/design-san-francisco-day-1/
CATEGORIES:All,Past Events
ATTACH;FMTTYPE=image/jpeg:https://sfdesigncenter.com/wp-content/uploads/2023/01/SFDC-DSF-Fall-EmailHeader-1080x720-1.jpeg
END:VEVENT
BEGIN:VEVENT
DTSTART;TZID=America/Los_Angeles:20221018T100000
DTEND;TZID=America/Los_Angeles:20221018T160000
DTSTAMP:20260419T091135
CREATED:20230117T142733Z
LAST-MODIFIED:20230117T233727Z
UID:10000011-1666087200-1666108800@sfdesigncenter.com
SUMMARY:Get Cozy with KF
DESCRIPTION:Come meet and learn from Stephen Roman\, National Sales Director at CONRAD. Take a closer look at what’s new this season and enjoy your morning coffee from our Espresso Bar.
URL:https://sfdesigncenter.com/event/get-cozy-with-kf/
CATEGORIES:All,Past Events
ATTACH;FMTTYPE=image/jpeg:https://sfdesigncenter.com/wp-content/uploads/2023/01/SFDC-DSF-Fall-EmailHeader-1080x720-1.jpeg
END:VEVENT
BEGIN:VEVENT
DTSTART;TZID=America/Los_Angeles:20221018T090000
DTEND;TZID=America/Los_Angeles:20221020T180000
DTSTAMP:20260419T091135
CREATED:20230117T144033Z
LAST-MODIFIED:20230117T233806Z
UID:10000012-1666083600-1666288800@sfdesigncenter.com
SUMMARY:Baker: Browse Fall Favorites from Baker and McGuire
DESCRIPTION:Celebrate a new season with us! Join the Baker | McGuire San Francisco team in the showroom for our Fall Open House with light bites and refreshments. Explore new and notable designs by both Baker and McGuire\, including the recently debuted Barbara Barry for Baker collection and 22 fresh McGuire Originals pieces.
URL:https://sfdesigncenter.com/event/baker-browse-fall-favorites-from-baker-and-mcguire/
CATEGORIES:All,Past Events
ATTACH;FMTTYPE=image/jpeg:https://sfdesigncenter.com/wp-content/uploads/2023/01/SFDC-DSF-Fall-EmailHeader-1080x720-1.jpeg
END:VEVENT
BEGIN:VEVENT
DTSTART;TZID=America/Los_Angeles:20220624T183000
DTEND;TZID=America/Los_Angeles:20220624T220000
DTSTAMP:20260419T091135
CREATED:20230117T202759Z
LAST-MODIFIED:20230117T233841Z
UID:10000044-1656095400-1656108000@sfdesigncenter.com
SUMMARY:Design With Pride
DESCRIPTION:Kick off Pride Weekend with cocktails and small bites in the galleria atrium.
URL:https://sfdesigncenter.com/event/design-with-pride/
CATEGORIES:All,Past Events
ATTACH;FMTTYPE=image/png:https://sfdesigncenter.com/wp-content/uploads/2023/01/Screen-Shot-2019-07-03-at-10.46.26-AM.png
END:VEVENT
END:VCALENDAR