BEGIN:VCALENDAR
VERSION:2.0
PRODID:-//San Francisco Design Center - ECPv6.15.20//NONSGML v1.0//EN
CALSCALE:GREGORIAN
METHOD:PUBLISH
X-WR-CALNAME:San Francisco Design Center
X-ORIGINAL-URL:https://sfdesigncenter.com
X-WR-CALDESC:Events for San Francisco Design Center
REFRESH-INTERVAL;VALUE=DURATION:PT1H
X-Robots-Tag:noindex
X-PUBLISHED-TTL:PT1H
BEGIN:VTIMEZONE
TZID:America/Los_Angeles
BEGIN:DAYLIGHT
TZOFFSETFROM:-0800
TZOFFSETTO:-0700
TZNAME:PDT
DTSTART:20210314T100000
END:DAYLIGHT
BEGIN:STANDARD
TZOFFSETFROM:-0700
TZOFFSETTO:-0800
TZNAME:PST
DTSTART:20211107T090000
END:STANDARD
BEGIN:DAYLIGHT
TZOFFSETFROM:-0800
TZOFFSETTO:-0700
TZNAME:PDT
DTSTART:20220313T100000
END:DAYLIGHT
BEGIN:STANDARD
TZOFFSETFROM:-0700
TZOFFSETTO:-0800
TZNAME:PST
DTSTART:20221106T090000
END:STANDARD
BEGIN:DAYLIGHT
TZOFFSETFROM:-0800
TZOFFSETTO:-0700
TZNAME:PDT
DTSTART:20230312T100000
END:DAYLIGHT
BEGIN:STANDARD
TZOFFSETFROM:-0700
TZOFFSETTO:-0800
TZNAME:PST
DTSTART:20231105T090000
END:STANDARD
END:VTIMEZONE
BEGIN:VEVENT
DTSTART;TZID=America/Los_Angeles:20220624T183000
DTEND;TZID=America/Los_Angeles:20220624T220000
DTSTAMP:20260419T114504
CREATED:20230117T202759Z
LAST-MODIFIED:20230117T233841Z
UID:10000044-1656095400-1656108000@sfdesigncenter.com
SUMMARY:Design With Pride
DESCRIPTION:Kick off Pride Weekend with cocktails and small bites in the galleria atrium.
URL:https://sfdesigncenter.com/event/design-with-pride/
CATEGORIES:All,Past Events
ATTACH;FMTTYPE=image/png:https://sfdesigncenter.com/wp-content/uploads/2023/01/Screen-Shot-2019-07-03-at-10.46.26-AM.png
END:VEVENT
END:VCALENDAR