BEGIN:VCALENDAR
VERSION:2.0
PRODID:-//San Francisco Design Center - ECPv6.15.20//NONSGML v1.0//EN
CALSCALE:GREGORIAN
METHOD:PUBLISH
X-WR-CALNAME:San Francisco Design Center
X-ORIGINAL-URL:https://sfdesigncenter.com
X-WR-CALDESC:Events for San Francisco Design Center
REFRESH-INTERVAL;VALUE=DURATION:PT1H
X-Robots-Tag:noindex
X-PUBLISHED-TTL:PT1H
BEGIN:VTIMEZONE
TZID:America/Los_Angeles
BEGIN:DAYLIGHT
TZOFFSETFROM:-0800
TZOFFSETTO:-0700
TZNAME:PDT
DTSTART:20230312T100000
END:DAYLIGHT
BEGIN:STANDARD
TZOFFSETFROM:-0700
TZOFFSETTO:-0800
TZNAME:PST
DTSTART:20231105T090000
END:STANDARD
BEGIN:DAYLIGHT
TZOFFSETFROM:-0800
TZOFFSETTO:-0700
TZNAME:PDT
DTSTART:20240310T100000
END:DAYLIGHT
BEGIN:STANDARD
TZOFFSETFROM:-0700
TZOFFSETTO:-0800
TZNAME:PST
DTSTART:20241103T090000
END:STANDARD
BEGIN:DAYLIGHT
TZOFFSETFROM:-0800
TZOFFSETTO:-0700
TZNAME:PDT
DTSTART:20250309T100000
END:DAYLIGHT
BEGIN:STANDARD
TZOFFSETFROM:-0700
TZOFFSETTO:-0800
TZNAME:PST
DTSTART:20251102T090000
END:STANDARD
END:VTIMEZONE
BEGIN:VEVENT
DTSTART;TZID=America/Los_Angeles:20240402T100000
DTEND;TZID=America/Los_Angeles:20240402T180000
DTSTAMP:20260420T015558
CREATED:20240320T174736Z
LAST-MODIFIED:20240320T183356Z
UID:10000565-1712052000-1712080800@sfdesigncenter.com
SUMMARY:Spring 2024 Drop Off -- Donate to Make It Home
DESCRIPTION:For questions or to RSVP\, contact analisa@makeithomebayarea.org​ with the items you are planning to donate. \nPlease deliver accepted items to the SFDC Galleria loading dock at 15th & Rhode Island Street and we will take care of the rest! \nFor more info and a list of items we can accept go to:\nwww.makeithomebayarea.org/donate-stuff \nSHOUT OUT TO ASID Peninsula Chapter for volunteering to #makeithappen \nwww.makeithomebayarea.org is a 501c3 non-profit organization and all qualified donations are tax-deductible. Donation receipts will be provided.
URL:https://sfdesigncenter.com/event/spring-2024-drop-off/
LOCATION:Galleria Loading Dock\, 15th St & Rhode Island St\, San Francisco\, CA\, 94103\, United States
CATEGORIES:All
ATTACH;FMTTYPE=image/jpeg:https://sfdesigncenter.com/wp-content/uploads/2024/03/Spring-2024-Pick-Up-Event-Flyer-002-Crop-scaled.jpg
END:VEVENT
END:VCALENDAR