BEGIN:VCALENDAR
VERSION:2.0
PRODID:-//San Francisco Design Center - ECPv6.15.20//NONSGML v1.0//EN
CALSCALE:GREGORIAN
METHOD:PUBLISH
X-ORIGINAL-URL:https://sfdesigncenter.com
X-WR-CALDESC:Events for San Francisco Design Center
REFRESH-INTERVAL;VALUE=DURATION:PT1H
X-Robots-Tag:noindex
X-PUBLISHED-TTL:PT1H
BEGIN:VTIMEZONE
TZID:America/Los_Angeles
BEGIN:DAYLIGHT
TZOFFSETFROM:-0800
TZOFFSETTO:-0700
TZNAME:PDT
DTSTART:20220313T100000
END:DAYLIGHT
BEGIN:STANDARD
TZOFFSETFROM:-0700
TZOFFSETTO:-0800
TZNAME:PST
DTSTART:20221106T090000
END:STANDARD
BEGIN:DAYLIGHT
TZOFFSETFROM:-0800
TZOFFSETTO:-0700
TZNAME:PDT
DTSTART:20230312T100000
END:DAYLIGHT
BEGIN:STANDARD
TZOFFSETFROM:-0700
TZOFFSETTO:-0800
TZNAME:PST
DTSTART:20231105T090000
END:STANDARD
BEGIN:DAYLIGHT
TZOFFSETFROM:-0800
TZOFFSETTO:-0700
TZNAME:PDT
DTSTART:20240310T100000
END:DAYLIGHT
BEGIN:STANDARD
TZOFFSETFROM:-0700
TZOFFSETTO:-0800
TZNAME:PST
DTSTART:20241103T090000
END:STANDARD
END:VTIMEZONE
BEGIN:VEVENT
DTSTART;TZID=America/Los_Angeles:20230302T090000
DTEND;TZID=America/Los_Angeles:20230302T180000
DTSTAMP:20260419T045802
CREATED:20230302T155631Z
LAST-MODIFIED:20230302T160004Z
UID:10000492-1677747600-1677780000@sfdesigncenter.com
SUMMARY:Michael Merrill Design Studio: Complementary Design Consultation
DESCRIPTION:Please join the founding director of Michael Merrill Design Studio for a complimentary 30-minute consultation.\nMarch 7 – 9\, 2023\nThe consultation could range from a series of specific questions related to the design of your home or office; to resolving long-standing questions that may be vexing you.\nTo schedule your personal appointment\, please email sr@michaelmerrill.com or contact our office at (415) 440 – 2111.\nStaff members will assist in scheduling an appointment for you.\nMichael Merrill Design Studio works collaboratively with each client\, ensuring that the final product serves the client’s individual needs.\nWe look forward to meeting you at our design office located at\n101 Henry Adams St Ste. #318 San Francisco\, CA 94103.
URL:https://sfdesigncenter.com/event/michael-merrill-design-studio-complementary-design-consultation/
CATEGORIES:All
END:VEVENT
END:VCALENDAR